BEGIN:VCALENDAR
VERSION:2.0
PRODID:-//Oyoun | Kultur NeuDenken - ECPv5.16.4//NONSGML v1.0//EN
CALSCALE:GREGORIAN
METHOD:PUBLISH
X-ORIGINAL-URL:https://oyoun.de
X-WR-CALDESC:Veranstaltungen für Oyoun | Kultur NeuDenken
REFRESH-INTERVAL;VALUE=DURATION:PT1H
X-Robots-Tag:noindex
X-PUBLISHED-TTL:PT1H
BEGIN:VTIMEZONE
TZID:Europe/Berlin
BEGIN:DAYLIGHT
TZOFFSETFROM:+0100
TZOFFSETTO:+0200
TZNAME:CEST
DTSTART:20210328T010000
END:DAYLIGHT
BEGIN:STANDARD
TZOFFSETFROM:+0200
TZOFFSETTO:+0100
TZNAME:CET
DTSTART:20211031T010000
END:STANDARD
END:VTIMEZONE
BEGIN:VEVENT
DTSTART;TZID=Europe/Berlin:20211017T143000
DTEND;TZID=Europe/Berlin:20211017T220000
DTSTAMP:20260420T124416
CREATED:20211014T121227Z
LAST-MODIFIED:20211102T135807Z
UID:17857-1634481000-1634508000@oyoun.de
SUMMARY:THE SUPER SMASH KIKI BALL by Eros Marciano
DESCRIPTION:Eros Marciano (IG:@jan.nwattu) presents: \nTHE SUPER SMASH KIKI BALL \n➤ Doors open: 14:30 \n➤ LSS / Roll Call: 17:00 \nParticipants and audience are welcome to come to our in-house café/bar @abadan.berlin and garden after the ball for something to eat and drink and a little meeting place. \nTickets: box office only! CASH ONLY! \nParticipants - 5€\nSpectators:\nQT*BIPOC - 10€\nOther - 15€ \n**** \n-Commentator: Ocean Louboutin \n-Host: Mother Ambrosia Angels \n-DJ: Jada Angels \n-Judges:\nEuropean Mother Gigi Mattel\nFather Elijah Tea\nMother Crystal Solar\nLeo 007\nFather Ray Salem\nShayne Angels\nPrincess Gaby Marciano \n**** \nCATEGORIES (IN ORDER) // Shoes and accessoires don't count! - \n\nMF Realness ~ Doctor Mario  \nFor the first category of the night\, we wanna see real doctors. Bringt it in a typical doctor-like outfit! \n\nSexy Performance OTA - Zero Suit Samus  \nJust as her name implicates\, we wanna se you without a suit. No worries\, you won't have to show up all naked: Zero Suit Samus likes to wear matching sets. Bring it in a matching crop top and hot pants combo (same color/pattern). \n\nHands vs Arms OTA ~ Ryu  \nWe wanna see you go fast and precise like the powerful Ryu. Bring it in matching (color/pattern) headband and fingerless gloves. \n\nBeginner Runway - Sonic  \nSonic is the fastest character in the Super Smash Universe. For many\, he is even too fast to handle. Take your time on the runway\, don't go too fast and show us your SPORTY (but fashion) all blue outfit. \n\nBody OTA ~ Wii Fit Trainer \nLet's get physical. Bring it in an sporty outfit\, you would actually use for a workout\, training or a match. For the tens it's mandatory\, to serve body with a sport equipment (yoga mat\, ball\, tennis racket\, weights etc.) \n\nTag Team Beginner Performance ~ Ice Climbers  \nYou and your bestie are going on an adventure - yeahjjj! One person wears purple and the other one wears pink\, how cute! \n\nSex Siren OTA ~ Jigglypuff  \nYou may look innocent in your mandatory pink and FLUFFY outfit. But we wanna see some sexyyy phantasy on the floor. Think feathers\, tulle\, faux fur\, plush etc. \n\n- BREAK - \n\nTriple Threat ~ Pokemon Trainer 150€\n(1 Face\, 1 Runway\, 1 Performance)  \nYou and your Pokémon squad are here to defeat the whole Pokémon League. Your team needs to consist of one Charizard\, one Squirtle and one Ivysaur. Each member has to represent the matching type (Charizard: fire\, Squirtle: water\, Ivysaur: grass).\nYou will get your tens in the following order:\nFace\, Runway\, Performance. \n\nBest Dressed ~ Joker  \nJoker never fails to impress with his looks\, even in a hot battle. Be inspired by him and show us how to storm the red carpet in a look that includes a mask of your choice and a coat. \n\nFF Realness - Isabelle  \nShe is the Secretary of the Mayor and looks like she got inspired by the Mean Girls. Bring it in an outfit\, that includes plaid elements. \n\nRunway with a Twist ~ Incineroar  \nThis furious fighter knows how to make it hot and loves to be like a whirlwind when he battles. Make it hot and show us the twist in a red and black outfit. \n\nCommentator vs Commentator ~ about one character  \nLook at all these beautiful characters and choose at least one. Include their name in your tens! \n\nCall Out Performance OTA ~ Mii  \nMiis give you the possibility to join the forces and jump right into the Smash universe\, with a character that looks like you. So just come as you are\, call someone out for a battle and have fun! \n  \nPicture by Magia Marciano (IG: sevaquinn) \n**** \nPlease note: To take part in events at Oyoun or visit our exhibitions\, you need to have a negative corona test from the same day or proof of vaccination / recovery. FFP2 Masks are mandatory at Oyoun until further notice. Further information about our hygiene concept can be found here
URL:https://oyoun.de/event/the-super-smash-kiki-ball-by-eros-marciano/
LOCATION:Oyoun\, Lucy-Lameck-Staße 32\, Berlin\, 12049\, Deutschland
CATEGORIES:Bewegungen / Movements,Klänge / Sounds,Performance
ATTACH;FMTTYPE=image/jpeg:https://oyoun.de/files/2021/10/website-querformat-vorlage-2.jpg
END:VEVENT
END:VCALENDAR