BEGIN:VCALENDAR
VERSION:2.0
PRODID:-//Oyoun | Kultur NeuDenken - ECPv5.16.4//NONSGML v1.0//EN
CALSCALE:GREGORIAN
METHOD:PUBLISH
X-ORIGINAL-URL:https://oyoun.de
X-WR-CALDESC:Veranstaltungen für Oyoun | Kultur NeuDenken
REFRESH-INTERVAL;VALUE=DURATION:PT1H
X-Robots-Tag:noindex
X-PUBLISHED-TTL:PT1H
BEGIN:VTIMEZONE
TZID:UTC
BEGIN:STANDARD
TZOFFSETFROM:+0000
TZOFFSETTO:+0000
TZNAME:UTC
DTSTART:20210101T000000
END:STANDARD
END:VTIMEZONE
BEGIN:VEVENT
DTSTART;VALUE=DATE:20210310
DTEND;VALUE=DATE:20210519
DTSTAMP:20260420T142655
CREATED:20210304T150103Z
LAST-MODIFIED:20210322T144906Z
UID:13002-1615334400-1621382399@oyoun.de
SUMMARY:a’21: techno utopia x post-digital ignorance___10 March - 18 May\, 2021
DESCRIPTION:► a’21: techno utopia x post-digital ignorance \n► 10 MARCH - 18 MAY\, 2021 \n:: EXHIBITIONS :: PERFORMANCES :: TALKS\, WORKSHOPS & LECTURES :: & MORE :: ABOUT a’21 FESTIVAL :: \nThe past few decades have witnessed a tremendous proliferation of digital technology. References to a techno-utopia where knowledge would be available to each and all seemed to signal the possibility of positive social and cultural change while acknowledging a fundamental flaw. Digital technologies’ commitment to making knowledge accessible to all would supposedly produce a universal benefit and wellbeing which was partly realised but digital technologies did in no way result in a techno-utopia. It has become apparent that besides letting vast amounts of knowledge accessible to ever more people\, digital technologies are also powerful tools producing a peculiar kind of public ignorance\, one that seems to proliferate amidst ever multiplying information and knowledge available in today’s digitalised environment. With a’21 Festival - Post Digital Ignorance x Techno Utopia\, we aim to challenge the status quo while centring perspectives on non-human life\, queer ecology\, decolonising knowledge\, forced displacement\, and more. :: 69+ artists\, scientists and activists in 16 countries #SWANA #AFRICA #EUROPE #ASIA \n:: 13 extraordinary creatives radically collaborating within an intensive laboratory :: \nHosting hosting more than 50 events: incl. performances\, workshops\, panels\, sounds\, lectures\, exhibitions and screenings \n:: PROGRAMME 2021 ::  \nw/ amberPlatform (Turkey)\, 16 March - 18 April w/ Kounaktif (Morocco)\, 17 - 21 March w/ Sharhaban (Lebanon)\, 22 - 25 March w/ BAAB Collective (Sudan) 1 April - 15 May w/ Darağaç (Turkey)\, 2 April - 26 March w/ DAHproject (Iran)\, 3 April - 7 May  \n#NewMedia #QueerEcology #ForcedDisplacement #FutureDesign \n// Produced by: Oyoun in collaboration with amberPlatform \n// Curatorial Team: Amirali Ghasemi\, Ali Cem Doğan\, Cenkhan Aksoy\, Christoph Wachter\, Ebru Yetişkin\, Ekmel Ertan\, Hamza Chamas\, Mathias Jud\, Milad Forouzandeh\, Mohsen Hazrat\, Nina Martin\, Rajaa Shamam\, Youssef El Idrissi \n// Participants include: Eda Sütunç\, Danielle Brathwaite-Shirley\, Mary Maggic\, Rachel Uwa\, Renata Salecl\, Seloua Luste Boulbina\, Pelin Tan\, Yara Mekawei\, and many more. \n// Funded by: Capital Cultural Fund/ Berlin's Hauptstadtkulturfond
URL:https://oyoun.de/event/a21-techno-utopia-x-post-digital-ignorance/
LOCATION:Online
CATEGORIES:a’21
ATTACH;FMTTYPE=image/jpeg:https://oyoun.de/files/2021/01/3-techno-utopia-post-digital-ignorance-e1614378397508.jpg
END:VEVENT
BEGIN:VEVENT
DTSTART;TZID=UTC:20210326T180000
DTEND;TZID=UTC:20210326T200000
DTSTAMP:20260420T142655
CREATED:20210304T221751Z
LAST-MODIFIED:20210319T100025Z
UID:13052-1616781600-1616788800@oyoun.de
SUMMARY:a'21: A conversation about collective's role in İzmir_ Darağaç
DESCRIPTION:►a'21: A conversation about collective's role in İzmir_ Darağaç \nAudience will have an insight information about the influence of collectives in the art scene of Izmir. \n:: ABOUT THIS EVENT (EN/TR) :: \nA conversation with Tom Keogh and Ali Kemal Ertem from Maquis Project in İzmir and Hande Bozbıyık about the roles of collectives in İzmir. How collectives affect the city? Is it possible to redefine these neighborhoods as reconciliation zones ? Tom Keogh and Ali Kemal Ertem will share their journey of Maquis Projects (İzmir) and Hande Bozbıyık will share her personal story on how her path crossed with the collectives of İzmir. \nHande Bozbıyık ve Maquis Project’ten Tom Keogh ve Ali Kemal Ertem ile İzmir’de kolektiflerin etkisi üzerine bir sohbet. Kolektifler İzmir’de kolektifler ne kadar etkili ? Kolektiflerin bulunduğu mahalleleri bir uzlaşma alanı olarak yeniden tanımlamak mümkün mü? Tom Keogh ve Ali Kemal Ertem Maquis Project’in öyküsünü ve Hande Bozbıyık nasıl kendi hayatıyla bu kolektiflerin kesiştiğini anlatacak. \n►  Click "going" on Facebook to stay up to date.\n► Join the event through vimeo \n:: LINKS :: \n► Ali Cem Doğan \nInstagram\nFacebook\nWebsite \n► Ali Kemal Ertem \nInstagram\nFacebook \n►Tom Keogh\nFacebook  \n►Hande Bozbıyık \nInstagram\nFacebook \n* This event is part of Oyoun's a’21 Festival - Post Digital Ignorance x Techno Utopia aiming to challenge the status quo while centring perspectives on non-human life\, queer ecology\, decolonising knowledge\, forced displacement\, and more.The project was financed by Berlin’s Hauptstadtkulturfonds. \nProduced by: Oyoun in collaboration with amberPlatform \nCuratorial Team: Amirali Ghasemi\, Ali Cem Doğan\, Cenkhan Aksoy\, Christoph Wachter\, Ebru Yetişkin\, Ekmel Ertan\, Hamza Chamas\, Mathias Jud\, Milad Forouzandeh\, Mohsen Hazrat\, Nina Martin\, Rajaa Shamam\, Youssef El Idrissi Participants include: Eda Sütunç\, Danielle Brathwaite-Shirley\, Mary Maggic\, Rachel Uwa\, Renata Salecl\, Seloua Luste Boulbina\, Pelin Tan\, Yara Mekawei\, and many more. \nFunded by: Capital Cultural Fund \n► For media and press inquiries\, please email hallo@oyoun.de
URL:https://oyoun.de/event/a21-a-conversation-about-collectives-role-in-izmir-daragac/
CATEGORIES:a’21,Panel
ATTACH;FMTTYPE=image/jpeg:https://oyoun.de/files/2021/03/daragac2.jpg
END:VEVENT
END:VCALENDAR